BEGIN:VCALENDAR
VERSION:2.0
CALSCALE:GREGORIAN
PRODID:-//MyApp//Calendar 1.0//EN
BEGIN:VEVENT
METHOD:PUBLISH
UID:65449@regionalniportaly.cz
DTSTAMP:20260419T234510Z
DTSTART;VALUE=DATE:20260410
DTEND;VALUE=DATE:20261030
SUMMARY:Literární soutěž Macharovo pero
DESCRIPTION:21. ročník literární soutěže Macharovo pero. Téma pro všechny kategorie: Jak se mi žije v srdci Evropy. Termín odevzdání soutěžních prací je 30. říjen 2026. Slavnostní vyhlášení vítězů proběhne v prosinci. Těšíme se na Vaše práce!
LOCATION:Kolín
END:VEVENT
END:VCALENDAR