BEGIN:VCALENDAR
VERSION:2.0
CALSCALE:GREGORIAN
PRODID:-//MyApp//Calendar 1.0//EN
BEGIN:VEVENT
METHOD:PUBLISH
UID:65266@regionalniportaly.cz
DTSTAMP:20260420T012526Z
DTSTART;VALUE=DATE:20260420
DTEND;VALUE=DATE:20260424
SUMMARY:Akce na objemové Řasy
DESCRIPTION:Blíží se období dovolené a \,\,Řasy\,\, jsou oblibenou možností\,  jak být stále upravená. \nPřipravila jsem pro Vás\n 15% slevu na NOVÝ SET OBJEMOVÝCH ŘAS \,  Řasy jsou lehké  a nezatěžují oko. V termínu  od 20.4.26 do 24.4.26 přijímám objednávky\n☎️703 380 257  
LOCATION:Kolín
END:VEVENT
END:VCALENDAR