BEGIN:VCALENDAR
VERSION:2.0
CALSCALE:GREGORIAN
PRODID:-//MyApp//Calendar 1.0//EN
BEGIN:VEVENT
METHOD:PUBLISH
UID:64154@regionalniportaly.cz
DTSTAMP:20260420T043536Z
DTSTART;VALUE=DATE:20260807
DTEND;VALUE=DATE:20260808
SUMMARY:Stadion cup Břehy
DESCRIPTION:27. ročník&nbsp\;Stadion Cupu&nbsp\;v Břehách u Přelouče.7 - 8.srpna 2026 bude patřit vyladěným dvoutaktům v jednostopých strojích. Těšit se můžete na závody mopedů\, fichtlů a Babett doplněné o zajímavý doprovodný program včetně několika kapel.
LOCATION:Břehy
END:VEVENT
END:VCALENDAR