BEGIN:VCALENDAR
VERSION:2.0
CALSCALE:GREGORIAN
PRODID:-//MyApp//Calendar 1.0//EN
BEGIN:VEVENT
METHOD:PUBLISH
UID:63817@regionalniportaly.cz
DTSTAMP:20260419T204756Z
DTSTART;VALUE=DATE:20260420
DTEND;VALUE=DATE:20260424
SUMMARY:Mezinárodní den Země
DESCRIPTION:Na obou dětských odděleních vás čekají zajímavé kvízy\, hry a knížky. Přijďte kdykoliv během otevírací doby. Oddělení pro děti (Husova ulice i pobočka na sídlišti).
LOCATION:Kolín
END:VEVENT
END:VCALENDAR