BEGIN:VCALENDAR
VERSION:2.0
CALSCALE:GREGORIAN
PRODID:-//MyApp//Calendar 1.0//EN
BEGIN:VEVENT
METHOD:PUBLISH
UID:63815@regionalniportaly.cz
DTSTAMP:20260420T000258Z
DTSTART;VALUE=DATE:20260408
DTEND;VALUE=DATE:20260515
SUMMARY:Srdcem a štětcem
DESCRIPTION:Výstava obrazů Jaroslava Dykasta. Vernisáž výstavy proběhne ve středu 8. dubna v 17 hodin. Sál MěK (Husova ulice).
LOCATION:Kolín
END:VEVENT
END:VCALENDAR