BEGIN:VCALENDAR
VERSION:2.0
CALSCALE:GREGORIAN
PRODID:-//MyApp//Calendar 1.0//EN
BEGIN:VEVENT
METHOD:PUBLISH
UID:63551@regionalniportaly.cz
DTSTAMP:20260422T020533Z
DTSTART;VALUE=DATE:20260415
DTEND;VALUE=DATE:20260416
SUMMARY:Ma chanson\, ma vie! – Světla a stíny Světlany Nálepkové
DESCRIPTION:Zveme vás na jedinečný recitál známé herečky a chansoniérky Světlany Nálepkové\, který je zároveň průřezem její bohatou uměleckou kariérou. V programu Ma chanson\, ma vie! se prolínají světla i stíny jejího profesního i osobního života\, zachycené v hudbě\, příbězích a nezaměnitelném projevu.&nbsp\;Za doprovodu skvělého dua hudebníků – Zbyňka Petržely (klavír) a Víta Šujana (kontrabas\, kytara) – zazní slavné české i světové šansony\, připomenutí ikonických melodií\, které Světlanu provázely její cestou\, i nové písně z jejího současného repertoáru.&nbsp\;Večer\, kde se hudba stává vyprávěním a celý život jedné z výrazných osobností české kulturní scény ožívá v každém tónu.
LOCATION:Kolín
END:VEVENT
END:VCALENDAR