BEGIN:VCALENDAR
VERSION:2.0
CALSCALE:GREGORIAN
PRODID:-//MyApp//Calendar 1.0//EN
BEGIN:VEVENT
METHOD:PUBLISH
UID:62503@regionalniportaly.cz
DTSTAMP:20260422T020543Z
DTSTART;VALUE=DATE:20260214
DTEND;VALUE=DATE:20260215
SUMMARY:Valentýnský koncert
DESCRIPTION:Milí známí i neznámí\,srdečně vás všechny zveme na náš VALENTÝNSKÝ KONCERT v krásném prostředí Hutě František v obci Sázava.Můžete se těšit na české\, italské a anglické romantické písně z filmů\, muzikálů i sólových alb populárních interpretů v podání zpěvačky a zpěváka s klavírním doprovodem.Vypůjčíme si moderní i časem prověřený repertoár. Někdy od Vojty DYKA či Ondry RUMLA - jindy zas od Karla GOTTA\, Jirky KORNA\, Dana HŮLKY či Bohuše MATUŠE💿 A nebudou chybět nádherné duety s okouzující zpěvačkou Annou Pechovou a její dechberoucí sólové písně.Na špičkové Nord Stage 3 piano vše doprovodí Kristýna Schumová a celým romantickým večerem Vás provede slovem i písní Jiří PekZajištěno lahodné občerstvení a možnost jíst i popíjet v sále během koncertu 🍹🍰🍡🧀🥂🍮🫖☕️Na místě můžete také zakoupit svým drahým polovičkám vysoké červené růže od Florea 🌹Celý prostor bude příjemně vytopený velkým krbem a romanticky dosvícen svíčkami&nbsp\;Můžete postát u bistro stolků vzadu\, posedět uprostřed na pohodlných polstrovaných židličkách nebo koupit exkluzivní vstupenku s &nbsp\;lahví premiového prosecca\, vysokou červenou růží a posezením u stolku v prvních třech řadách u pódia
LOCATION:Sázava
END:VEVENT
END:VCALENDAR