BEGIN:VCALENDAR
VERSION:2.0
CALSCALE:GREGORIAN
PRODID:-//MyApp//Calendar 1.0//EN
BEGIN:VEVENT
METHOD:PUBLISH
UID:61033@regionalniportaly.cz
DTSTAMP:20260422T020640Z
DTSTART;VALUE=DATE:20260418
DTEND;VALUE=DATE:20260419
SUMMARY:KLÍČ & CF Sistrum
DESCRIPTION:Koncert domácí kapely CF Sistrum ze Skřivan a folkové legendy - Skupiny KLÍČ.Folková kapela CF Sistrum má sídlo ve Skřivanech a vystupuje s folkovými písněmi&nbsp\;ve čtyřhlasé úpravě za doprovodu kytary. Po prvním úspěšném dvojkoncertu se skupinou Marien vám nyní přináší další hudební pohlazení. Zazní známé i méně známé folkové písně\, která kapela oživuje svými hlasy. Skupina pořádá festival SkálaFest v krásném prostředí letního kina Boháňka - Skála u Hořic v Podkrkonoší.Hudební skupina KLÍČ&nbsp\;je známá a&nbsp\;úspěšná folková skupina\, která na&nbsp\;české hudební scéně působí již úctyhodných&nbsp\;44&nbsp\;let&nbsp\;(kapela vznikla v&nbsp\;roce&nbsp\;1982)&nbsp\;– a&nbsp\;její písně jsou ponejvíce inspirovány středověkými a&nbsp\;renesančními tématy a&nbsp\;motivy. V&nbsp\;tvorbě KLÍČe je však možno slyšet i&nbsp\;moderní folkové náměty\, náznaky současného šansonu a&nbsp\;lidových písní\, ale také tvůrčí postupy používané v&nbsp\;klasické hudbě – a&nbsp\;občas např.&nbsp\;i&nbsp\;cikánské melodické prvky apod. Na svém kontě má přes tisícovku koncertů a festivalových vystoupení\, devět alb\, několik televizních recitálů a je držitelem Zlaté\, Autorské i Divácké Porty.
LOCATION:Skřivany
END:VEVENT
END:VCALENDAR