BEGIN:VCALENDAR
VERSION:2.0
CALSCALE:GREGORIAN
PRODID:-//MyApp//Calendar 1.0//EN
BEGIN:VEVENT
METHOD:PUBLISH
UID:60849@regionalniportaly.cz
DTSTAMP:20260422T040208Z
DTSTART;VALUE=DATE:20260320
DTEND;VALUE=DATE:20260321
SUMMARY:Harlej
DESCRIPTION:&nbsp\;HARLEJ - tak jdem dál\, dokud ještě můžem... tour 2026&nbsp\;Harlej&nbsp\;je česká rocková skupina&nbsp\;z Prahy a Mostu\, která vznikla v roce 1995....Loco Loco"Zvedněte prdele\, smradi. Žijeme hudbou\, a jen jednou!"
LOCATION:Králíky
END:VEVENT
END:VCALENDAR