BEGIN:VCALENDAR
VERSION:2.0
CALSCALE:GREGORIAN
PRODID:-//MyApp//Calendar 1.0//EN
BEGIN:VEVENT
METHOD:PUBLISH
UID:60770@regionalniportaly.cz
DTSTAMP:20260422T040120Z
DTSTART;VALUE=DATE:20260228
DTEND;VALUE=DATE:20260301
SUMMARY:Rock Metalový Vodvar
DESCRIPTION:Rock Metalový večer s kapelami Dangar Six \,Doktor Triceratops \,Trilobit-Rock \, Iras&nbsp\;
LOCATION:Kolín
END:VEVENT
END:VCALENDAR