BEGIN:VCALENDAR
VERSION:2.0
CALSCALE:GREGORIAN
PRODID:-//MyApp//Calendar 1.0//EN
BEGIN:VEVENT
METHOD:PUBLISH
UID:59965@regionalniportaly.cz
DTSTAMP:20260422T022407Z
DTSTART;VALUE=DATE:20251213
DTEND;VALUE=DATE:20251214
SUMMARY:Adventní koncert pěveckého sboru Smetana
DESCRIPTION:Vánoční koncert v zámku KřinecZveme vás na kouzelný večer plný hudby a adventní atmosféry. V sobotu 13. prosince 2025 od 18 hodin zazní v nádherném barokním sále zámku Křinec vánoční písně v podání pěveckého sboru Smetana z Jičína. Nechte se unést harmonií hlasů a svátečním klidem\, který rozezní zámecké klenby.Během celého dne se můžete těšit na vánoční hudební prohlídky zámku\, adventní trh na nádvoří\, dílny a divadélko pro děti\, a také na vůni kávy a cukroví v zámecké kavárně.&nbsp\;Počet míst je omezený\, doporučujeme proto včasnou rezervaci.Vstupné: 150 Kč / osoba.&nbsp\;— Zámecký sál\, kde hudba ožívá v duchu Vánoc —
LOCATION:Křinec
END:VEVENT
END:VCALENDAR