BEGIN:VCALENDAR
VERSION:2.0
CALSCALE:GREGORIAN
PRODID:-//MyApp//Calendar 1.0//EN
BEGIN:VEVENT
METHOD:PUBLISH
UID:59170@regionalniportaly.cz
DTSTAMP:20260422T020453Z
DTSTART;VALUE=DATE:20260316
DTEND;VALUE=DATE:20260317
SUMMARY:Pocta Karlu Gottovi
DESCRIPTION:Koncert Pocta Karlu Gottovi&nbsp\;Zveme vás na výjimečný večer plný emocí\, vzpomínek a nezapomenutelných melodií\, který se uskuteční za svitu stovek svíček.&nbsp\;Písně legendárního Karla Gotta zazní v podání charismatického zpěváka Miloslava Hartmana\, jehož hlas a projev nesou pokoru i hluboký obdiv k odkazu našeho „zlatého slavíka“. Na klavír jej doprovodí Radim Linhart\, uznávaný pianista a skladatel\, který dodá celému večeru jemnost a eleganci.Koncert bude proložen povídáním Františka Jiráska\, dlouholetého přítele a dvorního fotografa Karla Gotta. Jeho vyprávění a osobní vzpomínky vás zavedou do zákulisí života i umělecké dráhy muže\, který ovlivnil generace posluchačů.Atmosféru koncertu umocní světlo svíček\, které vytvoří kouzelnou\, až komorní náladu plnou klidu a emocí.Přijďte si s námi připomenout písně\, které se staly symbolem české hudby\, i příběhy\, které zůstávají v srdcích všech\, kdo Karla Gotta milovali.
LOCATION:Kolín
END:VEVENT
END:VCALENDAR