BEGIN:VCALENDAR
VERSION:2.0
CALSCALE:GREGORIAN
PRODID:-//MyApp//Calendar 1.0//EN
BEGIN:VEVENT
METHOD:PUBLISH
UID:58117@regionalniportaly.cz
DTSTAMP:20260422T042358Z
DTSTART;VALUE=DATE:20251102
DTEND;VALUE=DATE:20251103
SUMMARY:W. A. Mozart - REQUIEM
DESCRIPTION:Tradiční dušičkový koncert v podání sboru Cantores cantant a hostů.W. A. MOZART - REQUEIM d mollÚčinkují:Cantores cantant a hostéKristýna Fílová - sopránDana Šťastná - altOndřej Holub - tenorJaroslav Patočka - basDvořákův komorní orchestrJakub Hrubý - sbormistr
LOCATION:Kolín
END:VEVENT
END:VCALENDAR