BEGIN:VCALENDAR
VERSION:2.0
CALSCALE:GREGORIAN
PRODID:-//MyApp//Calendar 1.0//EN
BEGIN:VEVENT
METHOD:PUBLISH
UID:57378@regionalniportaly.cz
DTSTAMP:20260422T110836Z
DTSTART;VALUE=DATE:20251018
DTEND;VALUE=DATE:20251019
SUMMARY:Marien a CF Sistrum
DESCRIPTION:Koncert domácí kapely CF Sistrum ze Skřivan a&nbsp\;Marien Víti Troníčka.Folková kapela CF Sistrum má sídlo ve Skřivanech a vystupuje s folkovými písněmi&nbsp\;ve čtyřhlasé úpravě za doprovodu kytary.&nbsp\;Zazní známé i méně známé folkové písně\, která kapela oživuje svými hlasy. Skupina pořádá festival SkálaFest v krásném prostředí letního kina Boháňka - Skála u Hořic v Podkrkonoší.Hudební skupina Marien z&nbsp\;Pardubic patří k&nbsp\;nejvýraznějším tvářím nastupující generace v&nbsp\;žánru folkové\, country a trampské hudby. Věnují se akustické kytarové muzice a vícehlasému zpívaní\, hrají melodické písně převážně z&nbsp\;dílny Víti Troníčka. Jsou trojnásobnými držiteli ocenění Porty a spolupracují s dalšími legendami této hudby - Žalmanem\, Spirituál Kvintetem\, doprovázeli Wabiho Daňka\, Honzu Nedvěda\, Roberta Křesťana a další. Skupina pořádá festival Folkové Chvojení a Východočeské kolo Porty.
LOCATION:Skřivany
END:VEVENT
END:VCALENDAR