BEGIN:VCALENDAR
VERSION:2.0
CALSCALE:GREGORIAN
PRODID:-//MyApp//Calendar 1.0//EN
BEGIN:VEVENT
METHOD:PUBLISH
UID:56858@regionalniportaly.cz
DTSTAMP:20260422T093820Z
DTSTART;VALUE=DATE:20250919
DTEND;VALUE=DATE:20250920
SUMMARY:Sodoma Gomora & Dj Flux +After party by soundwave
DESCRIPTION:Po dvou letech se do Kolína vrací Sodoma Gomora společně s DJ Fluxem. O support se postará DJ Esejes a noc zakončí techno after party pod hlavičkou Soundwave\, kde zahrají Avzeb a Votřes.
LOCATION:Kolín
END:VEVENT
END:VCALENDAR