BEGIN:VCALENDAR
VERSION:2.0
CALSCALE:GREGORIAN
PRODID:-//MyApp//Calendar 1.0//EN
BEGIN:VEVENT
METHOD:PUBLISH
UID:56673@regionalniportaly.cz
DTSTAMP:20260422T042332Z
DTSTART;VALUE=DATE:20251101
DTEND;VALUE=DATE:20251102
SUMMARY:Mystico - záhadologický festival
DESCRIPTION:Již podruhé v tomto roce se Společenský dům v Kolíně stane místem setkání záhadologů z celé České republiky i ze Slovenska. Témata budou opět fascinující – od tajemství pyramid a původu bájných tvorů přes historii svobodných zednářů až po mytologii slovanských bohů a záhadná místa spojená s řádem templářů.\nAkce proběhne v magickém období Dušiček\, které přímo vybízí ke zkoumání neviditelného světa\, tajemství a skrytých souvislostí.\nSoučástí programu budou nejen poutavé přednášky\, ale také hudební vystoupení\, tematické stánky a ukázky moderních omlazovacích technologií inspirovaných dávnou moudrostí našich předků.\nPOTVRZENÍ VYSTUPUJÍCÍ:\nJaroslav Drábek a Alexandra Naul - Paranormální jevy v České republice\nOtomar Dvořák - záhadolog a badatel\nHelena Heclová - astroložka \nHana Sahhu-Arah - Naše minulost je naší budoucností - původ lidstva \nHelena Olmrová - Střípy mozaiky záhad světa \nVít Syrový - Tajemství vody \nOndřej Brož - Existuje duše? Jaké máme důkazy? \nDavid Šubrt - Kryptozologie aneb bájná zvířata nejsou zase tak bájná...\nAva Brožová - Nadpřirozené bytosti slovanské kultury a návštěvy mimozemců na území ČR\nJiří Šobr - Světelná muzikoterapie v kontextu doby s ukázkami \n 
LOCATION:Kolín
END:VEVENT
END:VCALENDAR