BEGIN:VCALENDAR
VERSION:2.0
CALSCALE:GREGORIAN
PRODID:-//MyApp//Calendar 1.0//EN
BEGIN:VEVENT
METHOD:PUBLISH
UID:56256@regionalniportaly.cz
DTSTAMP:20260422T002040Z
DTSTART;VALUE=DATE:20260507
DTEND;VALUE=DATE:20260508
SUMMARY:Muzikály Josefa Vojtka v Kolíně
DESCRIPTION:Pro velký zájem jsme přidali další termín v Kolíně!&nbsp\;„MUZIKÁLY JOSEFA VOJTKA&nbsp\;– Tak trochu rockově“Nenechte si ujít jedinečnou možnost zažít vystoupení jednoho z nejvýraznějších hlasů české rockové a muzikálové scény. Za doprovodu známé&nbsp\;kapely Charlie Band&nbsp\;zazní&nbsp\; písně z muzikálů ve kterých Josef Vojtek účinkoval. Tři Mušketýři\, Angelika\, Kleopatra\, Hamlet\, Dracula\, a mnoho dalších. Připravte se na velkolepý zážitek\, kde se srdce rockera potká s vášní pro muzikály.&nbsp\;
LOCATION:Kolín
END:VEVENT
END:VCALENDAR