BEGIN:VCALENDAR
VERSION:2.0
CALSCALE:GREGORIAN
PRODID:-//MyApp//Calendar 1.0//EN
BEGIN:VEVENT
METHOD:PUBLISH
UID:56132@regionalniportaly.cz
DTSTAMP:20260422T035314Z
DTSTART;VALUE=DATE:20251204
DTEND;VALUE=DATE:20251205
SUMMARY:QUEENSHOW Kolín
DESCRIPTION:QUEENSHOW /2025/ – Bohemian Rhapsody: Půl století legendy a oslava 40. výročí legendárního koncertu Live Aid (1985).Přijďte zažít nezapomenutelný koncert skupiny QUEENSHOW\, která vzdává hold nesmrtelné hudbě Freddieho Mercuryho a QUEEN!&nbsp\;U příležitosti 40. výročí legendárního koncertu Live Aid (1985) a 50 let od vydání ikonické „Bohemian Rhapsody“\, která se stala jednou z největších písní všech dob\, vás čeká večer plný největších hitů\, jako jsou „We Will Rock You“\, „Radio Ga Ga“\, „We Are the Champions“\, či „Bohemian Rhapsody“.&nbsp\;Připomeňte si vystoupení na&nbsp\;Live Aid&nbsp\;(1985)\, které změnilo hudební historii. Nechte se unést energií\, vášní a dokonalou show v duchu QUEEN!QUEENSHOW&nbsp\;je jediná tribute kapela na světě\, která na svých vystoupeních používá tak rozsáhlý výběr dobových nebo dokonce stejných nástrojů\, jaké používal QUEEN na svých koncertech!&nbsp\;Díky své neuvěřitelné autenticitě\, která dokonale zachycuje nejen zvuk\, ale i magii a energii původní formace\, je uznávána jako jedna z nejlepších QUEEN tribute kapel vůbec.&nbsp\;Každý koncert je oslavou mistrovství Queen a jejich nadčasového odkazu\, každé vystoupení QUEENSHOW je jedinečným zážitkem\, který vás přenese do doby\, kdy Freddie Mercury ovládal pódia a hudba QUEEN dobývala svět.Od roku 2024 se kapele připojil italský hudebník Marco Giuseppe Di Marco\, uznávaný ve světě QUEEN jako brilantní kytarista\, který dokáže s precizností napodobit nezaměnitelnou techniku Briana Maye. Jeho hra přidává vystoupení další úroveň dokonalosti a autentičnosti\, což dělá z&nbsp\;QUEENSHOW&nbsp\;výjimečnou hudební událost\, kterou si nesmíte nechat ujít!
LOCATION:Kolín
END:VEVENT
END:VCALENDAR