BEGIN:VCALENDAR
VERSION:2.0
CALSCALE:GREGORIAN
PRODID:-//MyApp//Calendar 1.0//EN
BEGIN:VEVENT
METHOD:PUBLISH
UID:55003@regionalniportaly.cz
DTSTAMP:20260422T093656Z
DTSTART;VALUE=DATE:20250822
DTEND;VALUE=DATE:20250824
SUMMARY:Spolufest v Paběnickém mlýně 2025
DESCRIPTION:Prodej na Firewalking v sobotu jen na místě 300\,- Kč&nbsp\;Program Hlavní StagePátek 22. 8. 2025Patrik Kee 17:00 - 18:00Lenka Dusilová 19:00 - 20:00Mantrovníci 20.45 - 23.00&nbsp\;Sobota 23. 8. 2025Michaela Barbora 9:30 - 10:30Josi 11.00 - 12.00Terez Wrau 12:30 - 13.30Tranzan 14.00 - 15.00Drum Flow 15:30 - 16:30Ganesham 17:00 - 18.30Vojta Violinist 19.00 - 20:15Jobbi Tao 20:30 - 22:00&nbsp\;Neděle 24. 8. 2025Danero (Dan a Romi) 9:30 - 10:00Michal Turek 10:30 - 11:30Marie Tilšarová 12:00 - 13:00Straky 13.30 - 14:30
LOCATION:Paběnice
END:VEVENT
END:VCALENDAR