BEGIN:VCALENDAR
VERSION:2.0
CALSCALE:GREGORIAN
PRODID:-//MyApp//Calendar 1.0//EN
BEGIN:VEVENT
METHOD:PUBLISH
UID:54731@regionalniportaly.cz
DTSTAMP:20260422T095422Z
DTSTART;VALUE=DATE:20250905
DTEND;VALUE=DATE:20250907
SUMMARY:CE-5 expedice: Farma Naděje
DESCRIPTION:VYPRODANÉ VSTUPENKY?&nbsp\;VYBERTE SI&nbsp\;JINÝ TERMÍN.Hledáš odpovědi na otázky\, které ti běžný svět nedává? Máš pocit\, že existuje něco víc\, co přesahuje každodenní realitu? Zajímá tě\, kdo jsme\, odkud pocházíme a proč nás stále silněji přitahuje hvězdné nebe?Přidej se společně s Alexandrou McKenzie\, Honzou Procházkou a Sueneém k víkendovému setkání uprostřed přírody na Farmě Naděje\, kde skrze klid\, sdílení\, meditaci a seznámení se s CE-5 protokolem prozkoumáme možnost vědomého kontaktu s mimozemskými civilizacemi\, tvojí hvězdnou rodinou – a především sami se sebou. Ano\, cesta do vesmíru vede skrze vesmír v každém z nás!V CENĚ VSTUPENKY ZAJIŠTĚNO:Rozsáhlý víkendový programUbytování ve vlastním stanuVeganská strava od páteční večeře do nedělního obědaPobyt v přírodě mezi šťastnými zvířátkySlevový kód na 8. Mezinárodní konferenci UFO\, exopolitky\, historie a spiritualityPROGRAM:PÁTEK\, 05.09.17:00 - Ubytováni a společná večeře18:00 - Zahajovací rituál19:00 - Meditace na sebepřijetí\, sebelásku a sebedůvěru21:00 - CE-5 protokol\, teorie\, trénink a praxeSOBOTA\, 06.09.08:30 - Honza: Ranní joga (dobrovolné)09:00 - Snídaně10:00 - Sueneé: Mýty a fakta o lidech a mimozemšťanech11:00 - Alex: Mimozemská komunikace13:00 - Oběd15:00 - Alex: Trénink&nbsp\;vidění do astrálních světů a dálkové nazírání16:00 - Honza: Praktické&nbsp\;CE-5 techniky\; cvičení povzbuzující periferní vidění17:00 - Večeře19:00 - Meditace a dechová cvičení21:00 - CE-5 protokol\, trénink&nbsp\;a praxeNEDĚLE\, 07.09.08:30 - Honza: Ranní joga (dobrovolné)09:00 - Snídaně10:00 - Alex\, Honza\, Sueneé\, všichni: Sdílení a společná meditace na závěr12:00 - Oběd14:00 - Vyklízení a odjezdJsi připraven/a na setkat s jinými světy? &nbsp\;Přijeď a naučíš se vnímat svět více než pěti smysly...Lektoři: Alexandra McKenzie\,&nbsp\;Jan Procházka\, Sueneé
LOCATION:Dobrovítov
END:VEVENT
END:VCALENDAR