BEGIN:VCALENDAR
VERSION:2.0
CALSCALE:GREGORIAN
PRODID:-//MyApp//Calendar 1.0//EN
BEGIN:VEVENT
METHOD:PUBLISH
UID:54596@regionalniportaly.cz
DTSTAMP:20260422T130831Z
DTSTART;VALUE=DATE:20250623
DTEND;VALUE=DATE:20250624
SUMMARY:Mamma Mia - hudební show
DESCRIPTION:Přijďte si užít příjemný hudební večer do MSD Kolín. Čeká na vás 90 minutový program\, kde uslyšíte všechny písně z filmu Mamma Mia v podání skvělých zpěváků a zpěvaček z české divadelní scény.A aby to nebylo jen o zpívání\, většina písní bude doprovázena tanečníky a jejich choreografiemi.Těšit se můžete i na propracované kostýmy\, vlastně vyrobené kulisy a skvělé osvětlení. Během celého vystoupení bude k dispozici stánek s merchem a občerstvením.Písničky budou zpívané v angličtině.
LOCATION:Kolín
END:VEVENT
END:VCALENDAR