BEGIN:VCALENDAR
VERSION:2.0
CALSCALE:GREGORIAN
PRODID:-//MyApp//Calendar 1.0//EN
BEGIN:VEVENT
METHOD:PUBLISH
UID:54564@regionalniportaly.cz
DTSTAMP:20260422T130841Z
DTSTART;VALUE=DATE:20250623
DTEND;VALUE=DATE:20250624
SUMMARY:Mamma Mia SHOW
DESCRIPTION:🪩 MAMMA MIA SHOW 🪩 😍 Písně z legendárního filmu naživo!😍\n \n🕺 Přijďte si užít 90 minut plných hudby\, tance a energie! Největší hity z filmu Mamma Mia zazní v podání výjimečných zpěváků a zpěvaček z české divadelní scény. A nebude to jen o zpívání – většina písní bude doprovázena choreografiemi a tanečníky\, kteří roztančí celý sál! 🎼\n \n🤩 Čekají vás: 🎤 Hity jako Dancing Queen\, Mamma Mia\, Waterloo a další 💃 Nádherné kostýmy a originální kulisy 🎉 Skvělé světelné efekty 📸 Fotostěna pro vaši nezapomenutelnou vzpomínku 😎 Stánek s merchem pro všechny fanoušky\n \n👉 23.6.2025 👉 Městský společenský dům Kolín\n \n👉 Sdílejte s přáteli a užijte si večer plný hitů\, které znáte a milujete!\n \n🎟 Vstupenky: https://www.msd-kolin.cz/akce-mamma-mia-show-------pronajem-2025-06-23\n \nPísničky budou zpívané v angličtině.\n#MammaMiaShow #ZazijABBA #HudebniVečer #MammaMiaLive
LOCATION:Kolín
END:VEVENT
END:VCALENDAR