BEGIN:VCALENDAR
VERSION:2.0
CALSCALE:GREGORIAN
PRODID:-//MyApp//Calendar 1.0//EN
BEGIN:VEVENT
METHOD:PUBLISH
UID:53383@regionalniportaly.cz
DTSTAMP:20260422T074326Z
DTSTART;VALUE=DATE:20251112
DTEND;VALUE=DATE:20251113
SUMMARY:Václav Noid Bárta - Vánoční koncert
DESCRIPTION:Václav Noid Bárta a jeho vánoční koncert v Kolíně!Charismatický zpěvák s nezaměnitelným hlasem Václav Noid Bárta rozezní svůj vánoční koncert v Kolíně!Na poli populární a rockové hudby v průběhu let spolupracoval jako skladatel\, aranžér a zpěvák například s Lucií Bílou\, Bárou Basikovou\, Helenou Vondráčkovou\, Kamilem Střihavkou\, Lucií Vondráčkovou a dalšími.Je předním sólistou Hudebního divadla Karlín\, kde exceloval v muzikálech Carmen\, Aida\, Lucie\, The Addams Family\, Bonnie and Clyde\, Jesus Christ Superstar a Sestra v akci.Vstupenky jsou právě v prodeji\, ale neváhejte dlouho – rychle mizí a brzy nebudou k dispozici.&nbsp\;
LOCATION:Kolín
END:VEVENT
END:VCALENDAR