BEGIN:VCALENDAR
VERSION:2.0
CALSCALE:GREGORIAN
PRODID:-//MyApp//Calendar 1.0//EN
BEGIN:VEVENT
METHOD:PUBLISH
UID:53040@regionalniportaly.cz
DTSTAMP:20260422T111116Z
DTSTART;VALUE=DATE:20251004
DTEND;VALUE=DATE:20251005
SUMMARY:Ve světle naděje
DESCRIPTION:Naděje je skryta v&nbsp\;každé náročné situaci\, ve které se ocitneme.Naděje tu je i ve chvíli\, kdy nám nebo našim blízkým zbývá již jen krátký čas na tomto světě.Naděje v podobě klidnějšího závěru života\, citlivějšího rozloučení i léčivého truchlení.Vydejte se s námi na cestu\, která nemusí být pouze o bolesti\, ale také o vděčnosti\, důležité zkušenosti a někdy také o vnitřním přerodu v lepší verzi vlastního já.
LOCATION:Choltice
END:VEVENT
END:VCALENDAR