BEGIN:VCALENDAR
VERSION:2.0
CALSCALE:GREGORIAN
PRODID:-//MyApp//Calendar 1.0//EN
BEGIN:VEVENT
METHOD:PUBLISH
UID:52785@regionalniportaly.cz
DTSTAMP:20260422T093803Z
DTSTART;VALUE=DATE:20251020
DTEND;VALUE=DATE:20251021
SUMMARY:Ondřej Sokol Celebrity stand-up comedy
DESCRIPTION:CELEBRITY celovečerní stand-up comedy Ondřeje SokolaPřipravte se na&nbsp\;nezapomenutelný večer plný smíchu .&nbsp\;Ondřej Sokol v roli stand-up komika - tak jak jste ho ještě neviděli!&nbsp\; Ve svém vtipném a odvážném stand-up comedy představení se s vámi podělí o své zážitky ze soukromí\, historky z natáčení\, ale i o to\, co zažil při moderování\, nebo v lékařské ordinaci. Nečekaný pohled do jeho soukromí a téměř všech umělců v České republice.Nenechte si ujít tento jedinečný zážitek!&nbsp\;Délka představení:&nbsp\;1 hod. 30 min. (bez přestávky)
LOCATION:Kolín
END:VEVENT
END:VCALENDAR