BEGIN:VCALENDAR
VERSION:2.0
CALSCALE:GREGORIAN
PRODID:-//MyApp//Calendar 1.0//EN
BEGIN:VEVENT
METHOD:PUBLISH
UID:52743@regionalniportaly.cz
DTSTAMP:20260422T131143Z
DTSTART;VALUE=DATE:20250727
DTEND;VALUE=DATE:20250728
SUMMARY:Pohádková stezka /  KOLÍN
DESCRIPTION:🌟 Nejoblíbenější pohádková stezka míří do Kolína! 🌟Potkejte své oblíbené pohádkové kamarády!🎉Na trase vás čekají zábavné úkoly pro děti a také setkání s vašimi oblíbenými pohádkovými kamarády\, jako jsou hrdinové z Tlapkové patroly\, Ledového království\,&nbsp\; králíčka Binga a mnoha dalších\, které vaše děti zbožňují.👧 Vhodné pro děti ve věku 2–7 let📅 Datum: 27. 07. 2025⏰ Čas: Najdete na své zakoupené vstupence📍 Místo: Naučná stezka Borky\, Kolín (ul. Křičkova)🚩 Start: https://en.mapy.cz/s/kurodocoza&nbsp\;🚨 POZOR\, POZOR! 🚨Poslední start pohádkové stezky je ve&nbsp\;11:30–11:40Po tomto čase již&nbsp\;nebude možné vstoupit na trasu\, dorazte včas! ⏰&nbsp\;Po příchodu se prosím zaregistrujte u našeho stánku.🎪
LOCATION:Kolín
END:VEVENT
END:VCALENDAR