BEGIN:VCALENDAR
VERSION:2.0
CALSCALE:GREGORIAN
PRODID:-//MyApp//Calendar 1.0//EN
BEGIN:VEVENT
METHOD:PUBLISH
UID:51098@regionalniportaly.cz
DTSTAMP:20260422T183538Z
DTSTART;VALUE=DATE:20250225
DTEND;VALUE=DATE:20250226
SUMMARY:Stronger tour: Petr Špaček & band
DESCRIPTION:Petr Špaček vydává nové album “Stronger". Koncert k novému albu v rámci "Stronger Tour" proběhne v Kolíně v Městském divadle.\n \nDélka koncertu 120 minut\, včetně přestávky.
LOCATION:Kolín
END:VEVENT
END:VCALENDAR