BEGIN:VCALENDAR
VERSION:2.0
CALSCALE:GREGORIAN
PRODID:-//MyApp//Calendar 1.0//EN
BEGIN:VEVENT
METHOD:PUBLISH
UID:49758@regionalniportaly.cz
DTSTAMP:20260422T183358Z
DTSTART;VALUE=DATE:20250123
DTEND;VALUE=DATE:20250124
SUMMARY:Koncert filmové hudby v Kolíně
DESCRIPTION:Symfonický orchestr Dalibora Havlíčka uvede v Kolíně svůj úspěšný Koncert filmové hudby. Toto mladé hudební těleso pod taktovkou dirigenta Dalibora Havlíčka pro vás vybralo rozmanitý program plný známých filmových melodií.\n \nZazní nejen skladby\, které orchestr provází od jeho vzniku v roce 2016 – například melodie z filmu Rocky\, populárního seriálu Hra o trůny\, či špionážní filmové série Mission Impossible. Uslyšíte ale i slavnou melodii Ennia Morriconeho z filmu Tenkrát na Západě a soundtracky dobrodružných filmů Indiana Jones\, Sedm statečných\, Poslední Mohykán a Vinnetou. Nebudou chybět ani melodie z filmů Pearl Harbor nebo Piráti z Karibiku\, jejichž autorem je jeden z nejvyhledávanějších skladatelů současnosti\, Hans Zimmer. Malé diváky zase jistě potěší melodie z filmové série o Harrym Potterovi nebo animované série Madagascar. Na své si přijdou také milovníci prvního a patrně i nejznámějšího českého filmového muzikálu z roku 1964 Starci na chmelu.\nMěstský společenský dům v Kolíně\, Zámecká 109\nZačátek: 19:30
LOCATION:Kolín
END:VEVENT
END:VCALENDAR