BEGIN:VCALENDAR
VERSION:2.0
CALSCALE:GREGORIAN
PRODID:-//MyApp//Calendar 1.0//EN
BEGIN:VEVENT
METHOD:PUBLISH
UID:49191@regionalniportaly.cz
DTSTAMP:20260422T202300Z
DTSTART;VALUE=DATE:20250509
DTEND;VALUE=DATE:20250510
SUMMARY:Teenage Dream Party - Kolín
DESCRIPTION:TEENAGE DREAM PARTY POPRVÉ V KOLÍNĚ!🎉Už 9.5. se vidíme v klubu Staré Lázně s naší pohádkovou párty!Přijď si užít jedinečný večer plný nostalgie\, hudby a zábavy.💃🏻&nbsp\;Teenage Dream Party&nbsp\;není jen obyčejná párty. Je to jedinečná příležitost vrátit se zpátky do našich mladých let\, kdy jsme s nadšením sledovali Disney pohádky a seriály. Připravili jsme pro vás mix těch nejznámějších písniček z Disney filmů\, které nás provázeli během našich dětských let.⭐️&nbsp\;Celý večer vás bude doprovázet nejen hudba\, ale i videoklipy a záběry z těchto ikonických pohádek a seriálů\, které budeme promítat na plátno za naším DJem.🎥&nbsp\;Klub bude otevřený od 20:00\, ve 21:00 začínají&nbsp\;Disney Hity&nbsp\;s videoprojekcí.🪩&nbsp\;🎁VIP vstupenka obsahuje přednostní vstup\, posezení\, vlastní bar\, záchody&nbsp\;a Disney dáreček!&nbsp\;🎁&nbsp\;MŮŽEŠ SE TĚŠIT NA:- videoprojekci🎥- fotoreport📸- tématickou&nbsp\;výzdobu🐭- světelné efekty🎇- tematické drinky🍹- VIP Disney dárky🎁- skvělou atmosféru🪩&nbsp\;INFO:9.5.2025📅&nbsp\;Staré Lázně - Starokolínská 287\, 280 02 Kolín 2📍&nbsp\;OPEN:&nbsp\;20:00⏰START:&nbsp\;21:00🏁Věk: 15+✅&nbsp\;&nbsp\;
LOCATION:Kolín
END:VEVENT
END:VCALENDAR