BEGIN:VCALENDAR
VERSION:2.0
CALSCALE:GREGORIAN
PRODID:-//MyApp//Calendar 1.0//EN
BEGIN:VEVENT
METHOD:PUBLISH
UID:48883@regionalniportaly.cz
DTSTAMP:20260422T183244Z
DTSTART;VALUE=DATE:20250510
DTEND;VALUE=DATE:20250511
SUMMARY:Mystico - záhadologický festival
DESCRIPTION:Festival nadšenců do záhad a tajemství s doprovodným hudebním programem a tématickými stánky. Populární osobnosti české záhadologie přednesou zajímavé přednášky.&nbsp\;PROGRAM:VELKÝ SÁL10:20 zahájení&nbsp\;Ava a David10:30 - přednáška&nbsp\;Jan KročaNová bádání v dějinách čarodějnictví11:30 - přednáška&nbsp\;Jan A. NovákTajemná místa Čech a Moravy12:30 - přednáška&nbsp\;Martin PávekPo stopách dávných civilizací nejen v Amazoniipauza na oběd 30 minut13:50 - koncert&nbsp\;Marie TilšarováVystoupení veselé písničkářky&nbsp\;15:00 - přednáška&nbsp\;Alexandra McKenzieDálkové nazírání - super-schopnost monitorující neviditelné světy16:00 - přednáška&nbsp\;Kryštof Koucký a Jirka Šobr&nbsp\;Přínos megalitických staveb pro člověka a Zemi17:00 - přednáška&nbsp\;Ava BrožováVZPOMÍNKY na hyperBOREJSKOU CIVILIZACI&nbsp\;KOMORNÍ SÁL11:00 - workshop&nbsp\;Ava BrožováMystické rostliny + aromaterapeutické ukázky11:50 - přednáška&nbsp\;David Šubrt&nbsp\;Jak vznikly upírské legendy?pauza na oběd 30 minut13:20 - přednáška&nbsp\;Iva Kenaz&nbsp\;Země víl a elfů\, severská mytologie a realita14:20 - přednáška&nbsp\;Jan ProcházkaTematika UFO / UAP v evropském kontextu15:20 - přednáška&nbsp\;Ondřej BrožNaše tělo je věštecký nástroj! Jak na to?16:20 - přednáška&nbsp\;Jarek DoleželArcheologie očima moderní spirituality17:20 - koncert&nbsp\;harfenistka Anwiharfa a zpěv populárních písní uhladí závěr festivalu.Doprovodný program a tématické&nbsp\;stánkyměření aury -&nbsp\;Petr Kosík&nbsp\;kartářka&nbsp\;Karolína Acheratiochutnávky&nbsp\;kakaa a keltská sůl a mnoho dalšího - stánek&nbsp\;Živé potěšení David Šubrtprodej knihy&nbsp\;Avy&nbsp\;Brožové - Strážci rovnováhy s podpisem autorkyprodej vzácných krystalů a konzultace&nbsp\;Leni Lipenskáprodej knih Dolores Canon -&nbsp\;Helena Olmrováworkshopový koutek a prodej mandal -&nbsp\;Claire Sweetsvíčky s drahokamy\, kosmetika Schminka&nbsp\;- Jana Cibulkovásvíčky neobvyklých tvarů\, dělané ručně a s láskou&nbsp\;Ily svíčkya mnoho dalšího.
LOCATION:Kolín
END:VEVENT
END:VCALENDAR