BEGIN:VCALENDAR
VERSION:2.0
CALSCALE:GREGORIAN
PRODID:-//MyApp//Calendar 1.0//EN
BEGIN:VEVENT
METHOD:PUBLISH
UID:47590@regionalniportaly.cz
DTSTAMP:20260422T183515Z
DTSTART;VALUE=DATE:20250419
DTEND;VALUE=DATE:20250420
SUMMARY:Queen Sensation 2025 | Kolín
DESCRIPTION:Největší světová&nbsp\;show na počest&nbsp\;legendární skupiny&nbsp\;QUEEN míří do Kolína! V rámci jejich evropského turné vystoupí v kolínském městském společenském domě!Připravte se na noc plnou nesmrtelných hitů a energie\, která Vás strhne! Do Kolína&nbsp\;přichází největší Queen tribute kapela na světě\, aby Vás přenesla do atmosféry koncertů legendární kapely Queen. Čeká Vás živá show s dokonalým provedením hitů jako "Bohemian Rhapsody\," "We Will Rock You\," a "We Are The Champions."Tato kapela\, která po celém světě vystupuje už přes 15 let\, nabízí nejen skvělý hudební zážitek\, ale i vizuální podívanou. Přijďte a zažijte nezapomenutelný večer plný hitů\, světel a emocí.
LOCATION:Kolín
END:VEVENT
END:VCALENDAR