BEGIN:VCALENDAR
VERSION:2.0
CALSCALE:GREGORIAN
PRODID:-//MyApp//Calendar 1.0//EN
BEGIN:VEVENT
METHOD:PUBLISH
UID:47436@regionalniportaly.cz
DTSTAMP:20260422T114534Z
DTSTART;VALUE=DATE:20241123
DTEND;VALUE=DATE:20241124
SUMMARY:Jiří Štědroň a Eva Hrušková
DESCRIPTION:Hudebně zábavné vystoupení Jiřího Štědroně a Evy Hruškové s názvem "Popelka a jak to bylo dál"
LOCATION:Uhlířské Janovice
END:VEVENT
END:VCALENDAR