BEGIN:VCALENDAR
VERSION:2.0
CALSCALE:GREGORIAN
PRODID:-//MyApp//Calendar 1.0//EN
BEGIN:VEVENT
METHOD:PUBLISH
UID:46798@regionalniportaly.cz
DTSTAMP:20260422T114450Z
DTSTART;VALUE=DATE:20241128
DTEND;VALUE=DATE:20241129
SUMMARY:Kupředu do minulosti Kolín - Kociánová\, Dušek\, Hogenová
DESCRIPTION:Kupředu do minulosti&nbsp\;2024 - KolínModerátorka Rádia Universum&nbsp\;Martina Kociánová&nbsp\;vystoupí se svými hosty -&nbsp\;Jaroslavem Duškem&nbsp\;a&nbsp\;Annou Hogenovou&nbsp\;na jedinečném setkání svého druhu.Jedinečnou besedu a osobní setkání se skvělými hosty můžete zažít exkluzivně už 28.11.2024 v Městském společenském domě Kolín&nbsp\;a to od 19 hod.&nbsp\;Vystupující:Martina Kociánová&nbsp\;- česká rozhlasová a televizní moderátorka.&nbsp\;Moderuje ve vlastní produkci na webu Svobodné universum (Rádio Universum) pořad Kupředu do minulosti.Jaroslav Dušek&nbsp\;- český filmový a divadelní herec. Je spoluautorem projektu Malá vizita a vystupuje ve svém vlastním internetovém pořadu Duše K.&nbsp\;Anna Hogenová&nbsp\;- česká kinantropoložka\, filosofka a&nbsp\;profesorka působící na českých vysokých školách.&nbsp\;Délka pořadu cca 120 min.Vstupenky v síti smsticket v předprodeji od 390 Kč\, na místě akce pak za 490 Kč.&nbsp\;Máte-li zájem na akci vystavovat/prodávat\, stát se jejím partnerem či ji podpořit\, pište na&nbsp\;info@forsberg.cz
LOCATION:Kolín
END:VEVENT
END:VCALENDAR