BEGIN:VCALENDAR
VERSION:2.0
CALSCALE:GREGORIAN
PRODID:-//MyApp//Calendar 1.0//EN
BEGIN:VEVENT
METHOD:PUBLISH
UID:46577@regionalniportaly.cz
DTSTAMP:20260422T133134Z
DTSTART;VALUE=DATE:20241102
DTEND;VALUE=DATE:20241103
SUMMARY:W. A. Mozart - REQUIEM
DESCRIPTION:Tradiční dušičkový koncert v podání sboru Cantores cantant a hostů.Letos prně v plném originálním obsazení. Orchestr\, sbor\, sóla\, varhany.J. S. Bach - Fantazie&nbsp\;g mollJ. S: Bach - Chorálová předehra - Ich ruf zu dir\, Herr Jesu Christ\, BWV 639W. A. MOZART - REQUEIM d mollÚčinkují:Cantores cantant a hostéKristýna Fílová - sopránSylva Čmugrová - altOndřej Holub - tenorPavel Vančura&nbsp\;- basPřemysl Kšica&nbsp\;- varhanyJakub Hrubý - sbormistr
LOCATION:Kolín
END:VEVENT
END:VCALENDAR