BEGIN:VCALENDAR
VERSION:2.0
CALSCALE:GREGORIAN
PRODID:-//MyApp//Calendar 1.0//EN
BEGIN:VEVENT
METHOD:PUBLISH
UID:45711@regionalniportaly.cz
DTSTAMP:20260422T095544Z
DTSTART;VALUE=DATE:20241026
DTEND;VALUE=DATE:20241027
SUMMARY:Zvláštním vlakem na prohlídku pivovaru Rampušák s degustací
DESCRIPTION:\nZvláštní rychlíkový spoj Praha – Kolín – Dobruška a zpět.\nPrůjezd trati Holice – Borohrádek bez pravidelné osobní dopravy.\nPrůjezd trati Opočno – Dobruška bez víkendové osobní dopravy.\nProhlídka pivovaru Rampušák s degustací.\nNávštěva pivovarské restaurace.\n\nNávrh jízdního řádu\, projednáváme se Správou železnic\, bude upřesněn.\nPraha hl.n. 8:00 – Kolín zastávka 8:40 – Moravany – Holice – Borohrádek – Dobruška 11:00\nDobruška 16:30 – Borohrádek – Holice – Moravany – Kolín zastávka 18:50 – Praha hl.n. 19:30
LOCATION:Kolín
END:VEVENT
END:VCALENDAR