BEGIN:VCALENDAR
VERSION:2.0
CALSCALE:GREGORIAN
PRODID:-//MyApp//Calendar 1.0//EN
BEGIN:VEVENT
METHOD:PUBLISH
UID:45638@regionalniportaly.cz
DTSTAMP:20260422T133226Z
DTSTART;VALUE=DATE:20241130
DTEND;VALUE=DATE:20241201
SUMMARY:SPS & Totální nasazení / Kolín
DESCRIPTION:Totální nasazení a S.P.S. na svém historicky prvním společném (mini) tour.Support: Dilemma in Cinema (punk\, Slaný)
LOCATION:Kolín
END:VEVENT
END:VCALENDAR