BEGIN:VCALENDAR
VERSION:2.0
CALSCALE:GREGORIAN
PRODID:-//MyApp//Calendar 1.0//EN
BEGIN:VEVENT
METHOD:PUBLISH
UID:45573@regionalniportaly.cz
DTSTAMP:20260422T132944Z
DTSTART;VALUE=DATE:20240831
DTEND;VALUE=DATE:20240901
SUMMARY:Historickým expresem na Karlštejn a do Berouna
DESCRIPTION:Zveme na zvláštní jízdu historického vlaku z Kolína přes Prahu a Karlštejn do Berouna a zpět.\n \nV čele vlaku stane nově zrenovovaná lokomotiva E499.118 zvaná Bobina ze Škody Plzeň\, která potáhne služební vůz Da a historické vozy ABa\, Bac a Dsd.\n \nPřijďte si užít tuto zvláštní jízdu s elektrickou legendou českých kolejí.\n \nV Berouně je možnost návštěvy restaurace rodinného pivovaru Berounský medvěd.\nCestující\, kteří vystoupí v Karlštejně\, si mohou dopřát procházku k hradu a zpět.\n \nNávrh jízdního řádu:Kolín 9:00 – Praha hl.n. 10:00 – Karlštejn 10:50 – Beroun 11:00\nBeroun 13:15 – Karlštejn 13:30 – Praha hl.n. 14:50 – Kolín 16:00\n \nDalší informace a prodej jízdenek na stránce výletní zážitkové vlaky.
LOCATION:Kolín
END:VEVENT
END:VCALENDAR