BEGIN:VCALENDAR
VERSION:2.0
CALSCALE:GREGORIAN
PRODID:-//MyApp//Calendar 1.0//EN
BEGIN:VEVENT
METHOD:PUBLISH
UID:45424@regionalniportaly.cz
DTSTAMP:20260422T114647Z
DTSTART;VALUE=DATE:20241021
DTEND;VALUE=DATE:20241022
SUMMARY:Partička na vzduchu
DESCRIPTION:
LOCATION:Kolín
END:VEVENT
END:VCALENDAR