BEGIN:VCALENDAR
VERSION:2.0
CALSCALE:GREGORIAN
PRODID:-//MyApp//Calendar 1.0//EN
BEGIN:VEVENT
METHOD:PUBLISH
UID:45256@regionalniportaly.cz
DTSTAMP:20260422T114235Z
DTSTART;VALUE=DATE:20240926
DTEND;VALUE=DATE:20240927
SUMMARY:IN INFINITE ILLUSION 2024 TOUR Kolín
DESCRIPTION:
LOCATION:Kolín
END:VEVENT
END:VCALENDAR