BEGIN:VCALENDAR
VERSION:2.0
CALSCALE:GREGORIAN
PRODID:-//MyApp//Calendar 1.0//EN
BEGIN:VEVENT
METHOD:PUBLISH
UID:44642@regionalniportaly.cz
DTSTAMP:20260422T144124Z
DTSTART;VALUE=DATE:20250613
DTEND;VALUE=DATE:20250614
SUMMARY:PUNKPLUGGED FESTIVAL vol. 3
DESCRIPTION:Nejsme jen další fesťák\, JSME ZÁŽITEK.Již v&nbsp\;pořadí třetí ročník hudebního festivalu pořádaného nedaleko Chlumce nad Cidlinou v&nbsp\;areálu disponujícím trvale zastřešeným sezením\, parketem a pódiem. Zde opět vystoupí česká Punková špička a zahraniční hosté - ti všichni pro vás připraví jedinečné podání svých songů\, kde vynikne zpěv společně s výkony jednotlivých nástrojů a muzikantů.Přijeďte a buďte celý víkend UNPLUGGED - rozhodně to není nuda. Každá kapela to bere JINAK - díky tomu uslyšíte nejen oblíbené songy v&nbsp\;unikátním aranžmá\, ale i věci\, které by kapely obyčejně naživo nehrály.Dva pohodové dny plné nejen punkové muziky. Skvělé pivo a výborné jídlo\, které bude k&nbsp\;dispozici NONSTOP\, vratné kelímky\, žádné plasty\, žádné smažené jídlo. Čisté záchody\, čistý areál a ČÍRO v&nbsp\;suchu POD STŘECHOU. &nbsp\;Děti do 140 cm zdarma. Vlastně jsme docela hodně CHILDREN FRIENDLY. Nejen kvůli nepřeřvanému (ale stále živému a mohutnému) zvuku a pohodovým návštěvníkům\, ale i díky dětské zóně spojené s&nbsp\;hlídaným a oploceným místem pro stanování návštěvníků s&nbsp\;těmi nejmenšími punkery.
LOCATION:Újezd u Přelouče
END:VEVENT
END:VCALENDAR