BEGIN:VCALENDAR
VERSION:2.0
CALSCALE:GREGORIAN
PRODID:-//MyApp//Calendar 1.0//EN
BEGIN:VEVENT
METHOD:PUBLISH
UID:44399@regionalniportaly.cz
DTSTAMP:20260422T081228Z
DTSTART;VALUE=DATE:20240802
DTEND;VALUE=DATE:20240803
SUMMARY:Pobřežní festival 3.ročník
DESCRIPTION:První den třetího ročníku multižánrového Pobřežního festivalu na louce u labského břehu zahájí mladá talentovaná zpěvačka Rebeka Klose se svou kapelou. Začneme tedy doslova zčerstva a stejně ve svěžím tempu budeme pokračovat tak trochu\, či spíše více ve sportovním duchu. Po dvou letech se do programu vrací novocirkusoví Bratři v tricku se svým jedinečným představením Běžkařská odysea. Závěrem se o zklidnění postará se svým recitálem herec a písničkář Vladimír Javorský za doprovodu svých spoluhráčů. Představí autorské písně v šansonové úpravě. A jestli to opravdu bude závěr dne\, to se uvidí ....
LOCATION:Přelouč
END:VEVENT
END:VCALENDAR