BEGIN:VCALENDAR
VERSION:2.0
CALSCALE:GREGORIAN
PRODID:-//MyApp//Calendar 1.0//EN
BEGIN:VEVENT
METHOD:PUBLISH
UID:43755@regionalniportaly.cz
DTSTAMP:20260422T081127Z
DTSTART;VALUE=DATE:20240720
DTEND;VALUE=DATE:20240721
SUMMARY:Největší pěnová párty
DESCRIPTION:
LOCATION:Kolín
END:VEVENT
END:VCALENDAR