BEGIN:VCALENDAR
VERSION:2.0
CALSCALE:GREGORIAN
PRODID:-//MyApp//Calendar 1.0//EN
BEGIN:VEVENT
METHOD:PUBLISH
UID:42985@regionalniportaly.cz
DTSTAMP:20260422T040130Z
DTSTART;VALUE=DATE:20240603
DTEND;VALUE=DATE:20240604
SUMMARY:PETR ŠPAČEK & Band - Violoncellový koncert v Milovicích
DESCRIPTION:Petr Špaček &amp\; Band nabízí populární\, swingové\, či rockové písně v originálním podání. A v pondělí 3. června zavítají se svým uměním do Milovic. \nKoncert se uskuteční od 19 hodin v Kulturním domě na adrese Nám. 30 června 507\, Milovice.\nPřijďte zažít pohodový violoncellový koncert Petra Špačka a jeho bandu!
LOCATION:Milovice
END:VEVENT
END:VCALENDAR