BEGIN:VCALENDAR
VERSION:2.0
CALSCALE:GREGORIAN
PRODID:-//MyApp//Calendar 1.0//EN
BEGIN:VEVENT
METHOD:PUBLISH
UID:42193@regionalniportaly.cz
DTSTAMP:20260422T080355Z
DTSTART;VALUE=DATE:20240622
DTEND;VALUE=DATE:20240623
SUMMARY:Kolínské legendy - charitativní zápas
DESCRIPTION:Fotbalisté a hokejisté na jednom místě se společným cílem. V sobotu 22. června 2024 proběhne v Kolína na Městském stadionu SK Sparta Kolín první duel legend kolínského fotbalu proti legendám kolínského hokeje.Utkání je charitativní a celkový výtěžek z akce poputuje na konto kolínské onkologie.Akci bude doprovázet bohatý doprovodný program\, soutěže a slosování&nbsp\; a především moderátor David "Dejvy" Krédl\, známého z radia BEAT\, dříve radia KISS98.Před hlavním zápasem poměří své fotbalové dovednosti fotbalová kategorie U13 proti hokejové kategorii U13.Těšit se můžete také na zajímavé hosty a pozápasovou autogramiádu hráčů a hostů.Večer bude v areálu Sparty Kolín venkovní diskotéka ve stylu retropárty s hity 80. a 90. let. Také pod taktovkou Davida Krédla.
LOCATION:Kolín
END:VEVENT
END:VCALENDAR