BEGIN:VCALENDAR
VERSION:2.0
CALSCALE:GREGORIAN
PRODID:-//MyApp//Calendar 1.0//EN
BEGIN:VEVENT
METHOD:PUBLISH
UID:42022@regionalniportaly.cz
DTSTAMP:20260422T113202Z
DTSTART;VALUE=DATE:20240503
DTEND;VALUE=DATE:20240504
SUMMARY:Holubice: Dcera a matka roku
DESCRIPTION:
LOCATION:Kolín
END:VEVENT
END:VCALENDAR