BEGIN:VCALENDAR
VERSION:2.0
CALSCALE:GREGORIAN
PRODID:-//MyApp//Calendar 1.0//EN
BEGIN:VEVENT
METHOD:PUBLISH
UID:41908@regionalniportaly.cz
DTSTAMP:20260422T164513Z
DTSTART;VALUE=DATE:20241123
DTEND;VALUE=DATE:20241124
SUMMARY:Koncert filmové hudby | Kolín
DESCRIPTION:Smyčce Pražského filmového orchestru pod taktovkou dirigenta Jiřího Korynty&nbsp\;přináší velkolepý koncert\, který představí&nbsp\;ve velkém sálu městského společenského domu v Kolině!Diváci se mohou&nbsp\;těšit na&nbsp\;skladby z filmů&nbsp\;Star Wars\, Pán Prstenů\, Games of Thrones\, Harry Potter\, Piráti z&nbsp\;Karibiku&nbsp\;a další známé melodie stříbrného plátna.Koncert bude bohatý na fantastickou filmovou hudbu od světově známých hudebních skladatelů\, jakými jsou např.&nbsp\;John Williams\,&nbsp\;Hans Zimmer\,&nbsp\;Howard Shore&nbsp\;nebo&nbsp\;James Horner.&nbsp\;
LOCATION:Kolín
END:VEVENT
END:VCALENDAR