BEGIN:VCALENDAR
VERSION:2.0
CALSCALE:GREGORIAN
PRODID:-//MyApp//Calendar 1.0//EN
BEGIN:VEVENT
METHOD:PUBLISH
UID:41670@regionalniportaly.cz
DTSTAMP:20260422T114503Z
DTSTART;VALUE=DATE:20241109
DTEND;VALUE=DATE:20241110
SUMMARY:Recitál - Karel Plíhal
DESCRIPTION:Koncertní vystoupení Karla Plíhala\,&nbsp\;českého kytaristy\, zpěváka\, skladatele\, textaře\, básníka\, hudebního režiséra a aranžéra\, tentokrát za doprovodu vynikajícího kytaristy Petra Fialy."Originální projev ještě podtrhují drobné verše\, kterými Plíhal prokládá celé vystoupení. Reflektují drobnosti každodenního života a pointa pokaždé publikum sklátí smíchy. … A když se vrátí podepsat své knihy\, je z něj znovu nesmělý a tichý muž\, co by raději nebyl. Ale to by byla velká škoda.“&nbsp\;V programu zazní jak oblíbené písně z alb minulých\, ale i novinky z chystaného alba.Pořad není vhodný pro děti do 12 let!
LOCATION:Přelouč
END:VEVENT
END:VCALENDAR