BEGIN:VCALENDAR
VERSION:2.0
CALSCALE:GREGORIAN
PRODID:-//MyApp//Calendar 1.0//EN
BEGIN:VEVENT
METHOD:PUBLISH
UID:41143@regionalniportaly.cz
DTSTAMP:20260422T112311Z
DTSTART;VALUE=DATE:20240406
DTEND;VALUE=DATE:20240407
SUMMARY:Házenkářský ples
DESCRIPTION:Společenský ples Handball club Kolín z.s.\, DDM – Zámecká Kolín\, 6.4.2024- Začátek v 18.30hod.- Prostory budou zpřístupněny od 18.hod.- Konec ve 2.00hod.- Občerstvení včetně jídla zajištěno- Hrát bude kapela Faustband- Po celý večer volná zábava- Zasedací pořádek není – každý si zvolí místa sám- Stoly se šesti místy\, možnost sloučení pro větší skupiny- Vstupné – 250\,-Kč/os.- Vyžadováno společenské oblečení- Zákaz kouření\, včetně elektronických cigaret\, ve všech prostorách DDM- K dispozici šatna pro odložení svrškůPřijďte si užít společný večer\, bude spousta zábavy a legrace
LOCATION:Kolín
END:VEVENT
END:VCALENDAR