BEGIN:VCALENDAR
VERSION:2.0
CALSCALE:GREGORIAN
PRODID:-//MyApp//Calendar 1.0//EN
BEGIN:VEVENT
METHOD:PUBLISH
UID:40773@regionalniportaly.cz
DTSTAMP:20260422T095121Z
DTSTART;VALUE=DATE:20240929
DTEND;VALUE=DATE:20240930
SUMMARY:Grande Moravia – Tenkrát na západě
DESCRIPTION:Dokonale vybroušený program nejlákavějších filmových melodií Ennia Morriconeho hraje znamenitý orchestr GRANDE MORAVIA Ladislava Pavluše.Celkový dojem z koncertu je navíc umocněn kouzelnými tóny cimbálu a VIDEOPROJEKCÍ.Výjimečnost hudby Ennia Morriconeho tkví v tom\, že ji chcete poslouchat stále a stále\, pokaždé vás nadchne a najdete v ní něco nového.Podrobnější informace naleznete na&nbsp\;www.grandemoravia.cz
LOCATION:Kolín
END:VEVENT
END:VCALENDAR