BEGIN:VCALENDAR
VERSION:2.0
CALSCALE:GREGORIAN
PRODID:-//MyApp//Calendar 1.0//EN
BEGIN:VEVENT
METHOD:PUBLISH
UID:40626@regionalniportaly.cz
DTSTAMP:20260422T093829Z
DTSTART;VALUE=DATE:20240525
DTEND;VALUE=DATE:20240526
SUMMARY:Toyota Beat Festival
DESCRIPTION:
LOCATION:Kolín
END:VEVENT
END:VCALENDAR